BEGIN:VCALENDAR
VERSION:2.0
PRODID:-//Tukios.com/
BEGIN:VEVENT
UID:366eac56-f029-485f-ba23-088b90d2af16@www.lccpg.com
DTSTAMP:20260424T063719Z
DTSTART:20260512T150000Z
DTEND:20260512T160000Z
SUMMARY:Luncheon
DESCRIPTION:
URL:https://www.lccpg.com/obituaries/michael-meilach
LOCATION:The Mark 5th Floor Clubroom 111 South Pineapple Avenue  Sarasota 
	FL 34236
GEO:27.3355737;-82.5413739
END:VEVENT
END:VCALENDAR