BEGIN:VCALENDAR
VERSION:2.0
PRODID:-//Tukios.com/
BEGIN:VEVENT
UID:6a7f5025-86c3-47fa-a600-e86de3ba9f08@www.lccpg.com
DTSTAMP:20260424T063549Z
DTSTART:20260512T140000Z
DTEND:20260512T143000Z
SUMMARY:Graveside Service
DESCRIPTION:
URL:https://www.lccpg.com/obituaries/michael-meilach
LOCATION: 9810 Florida 72  Sarasota FL 34241
GEO:27.2452098;-82.3751657
END:VEVENT
END:VCALENDAR