BEGIN:VCALENDAR
VERSION:2.0
PRODID:-//Tukios.com/
BEGIN:VEVENT
UID:aca2d7b8-a3f4-4016-9456-a7d611f92c12@www.lccpg.com
DTSTAMP:20260421T170246Z
DTSTART:20260501T210000Z
DTEND:20260502T000000Z
SUMMARY:Celebration of Life
DESCRIPTION:
URL:https://www.lccpg.com/obituaries/linda-williams
LOCATION: 1515 Tamiami Trl  Punta Gorda FL 33950
GEO:26.9245895;-82.0479983
END:VEVENT
END:VCALENDAR