BEGIN:VCALENDAR
VERSION:2.0
PRODID:-//Tukios.com/
BEGIN:VEVENT
UID:73e36eaf-58fe-4029-95f3-96eea95e6cf9@www.lccpg.com
DTSTAMP:20260423T182220Z
DTSTART:20260504T150000Z
DTEND:20260504T153000Z
SUMMARY:Gathering of Family & Friends
DESCRIPTION:
URL:https://www.lccpg.com/obituaries/karen-lyons
LOCATION:Life Celebration Center of Punta Gorda 1515 Tamiami Trail  Punta 
	Gorda FL 33950
GEO:26.9245895;-82.0479983
END:VEVENT
END:VCALENDAR