BEGIN:VCALENDAR
VERSION:2.0
PRODID:-//Tukios.com/
BEGIN:VEVENT
UID:6422954a-5c56-4a5e-a3ac-a22fd61ef642@www.lccpg.com
DTSTAMP:20260423T182448Z
DTSTART:20260504T153000Z
DTEND:20260504T170000Z
SUMMARY:Memorial Service
DESCRIPTION:
URL:https://www.lccpg.com/obituaries/karen-lyons
LOCATION:Life Celebration Center of Punta Gorda 1515 Tamiami Trail  Punta 
	Gorda FL 33950
GEO:26.9245895;-82.0479983
END:VEVENT
END:VCALENDAR