BEGIN:VCALENDAR
VERSION:2.0
PRODID:-//Tukios.com/
BEGIN:VEVENT
UID:f59a87af-20e0-4c40-b86f-0989551f0552@www.lccpg.com
DTSTAMP:20260423T195044Z
DTSTART:20260424T153000Z
DTEND:20260424T163000Z
SUMMARY:Graveside Service
DESCRIPTION:
URL:https://www.lccpg.com/obituaries/ada-westberry
LOCATION:Indian Springs Cemetery 9400 Indian Springs Cemetery  Punta 
	Gorda FL 33950
GEO:26.8913472;-82.0131243
END:VEVENT
END:VCALENDAR